BEGIN:VCALENDAR
VERSION:2.0
PRODID:-//ddaysoftware.com//NONSGML DDay.iCal 1.0//EN
BEGIN:VTIMEZONE
TZID:W. Europe Standard Time
BEGIN:STANDARD
DTSTART:20251002T030000
RRULE:FREQ=YEARLY;BYDAY=-1SU;BYHOUR=3;BYMINUTE=0;BYMONTH=10
TZNAME:Mitteleuropäische Zeit
TZOFFSETFROM:+0200
TZOFFSETTO:+0100
END:STANDARD
BEGIN:DAYLIGHT
DTSTART:20250301T020000
RRULE:FREQ=YEARLY;BYDAY=-1SU;BYHOUR=2;BYMINUTE=0;BYMONTH=3
TZNAME:Mitteleuropäische Sommerzeit
TZOFFSETFROM:+0100
TZOFFSETTO:+0200
END:DAYLIGHT
END:VTIMEZONE
BEGIN:VEVENT
CATEGORIES:Feste
DESCRIPTION:Die Freiwillige Feuerwehr Staning läd zum alljährlichen Kesself
 leischessen ein.\n\nVeranstalter: Freiwillige Feuerwehr Staning\n\nhttps:/
 /www.chamerau.de/aktuelles/veranstaltungen-chamerau/kesselfleischessen/
DTEND:20230218T235959
DTSTAMP:20260419T193515Z
DTSTART:20230218T170000
LOCATION:Feuerwehrgerätehaus Staning: Dorfanger 12\, 93466 Chamerau
SEQUENCE:0
SUMMARY:Kesselfleischessen
UID:8037
URL:https://www.chamerau.de/aktuelles/veranstaltungen-chamerau/kesselfleisc
 hessen/
END:VEVENT
END:VCALENDAR
