BEGIN:VCALENDAR
VERSION:2.0
PRODID:-//ddaysoftware.com//NONSGML DDay.iCal 1.0//EN
BEGIN:VTIMEZONE
TZID:W. Europe Standard Time
BEGIN:STANDARD
DTSTART:20251002T030000
RRULE:FREQ=YEARLY;BYDAY=-1SU;BYHOUR=3;BYMINUTE=0;BYMONTH=10
TZNAME:Mitteleuropäische Zeit
TZOFFSETFROM:+0200
TZOFFSETTO:+0100
END:STANDARD
BEGIN:DAYLIGHT
DTSTART:20250301T020000
RRULE:FREQ=YEARLY;BYDAY=-1SU;BYHOUR=2;BYMINUTE=0;BYMONTH=3
TZNAME:Mitteleuropäische Sommerzeit
TZOFFSETFROM:+0100
TZOFFSETTO:+0200
END:DAYLIGHT
END:VTIMEZONE
BEGIN:VEVENT
CATEGORIES:Sonstige
DESCRIPTION:\n\nhttps://www.chamerau.de/aktuelles/veranstaltungen-chamerau/
 kindersachen-flohmarkt-fruehjahrsommer-2024/
DTEND:20240224T153000
DTSTAMP:20260421T083435Z
DTSTART:20240224T133000
LOCATION:Bürgerhaus Chamerau: Kindergartenweg 3\, 93466 Chamerau
SEQUENCE:0
SUMMARY:Kindersachen-Flohmarkt Frühjahr/Sommer 2024
UID:8229
URL:https://www.chamerau.de/aktuelles/veranstaltungen-chamerau/kindersachen
 -flohmarkt-fruehjahrsommer-2024/
END:VEVENT
END:VCALENDAR
